BEGIN:VCALENDAR
VERSION:2.0
PRODID:-//Point Harbor Church - ECPv6.15.20//NONSGML v1.0//EN
CALSCALE:GREGORIAN
METHOD:PUBLISH
X-WR-CALNAME:Point Harbor Church
X-ORIGINAL-URL:https://www.pointharbor.com
X-WR-CALDESC:Events for Point Harbor Church
REFRESH-INTERVAL;VALUE=DURATION:PT1H
X-Robots-Tag:noindex
X-PUBLISHED-TTL:PT1H
BEGIN:VTIMEZONE
TZID:America/New_York
BEGIN:DAYLIGHT
TZOFFSETFROM:-0500
TZOFFSETTO:-0400
TZNAME:EDT
DTSTART:20250309T070000
END:DAYLIGHT
BEGIN:STANDARD
TZOFFSETFROM:-0400
TZOFFSETTO:-0500
TZNAME:EST
DTSTART:20251102T060000
END:STANDARD
BEGIN:DAYLIGHT
TZOFFSETFROM:-0500
TZOFFSETTO:-0400
TZNAME:EDT
DTSTART:20260308T070000
END:DAYLIGHT
BEGIN:STANDARD
TZOFFSETFROM:-0400
TZOFFSETTO:-0500
TZNAME:EST
DTSTART:20261101T060000
END:STANDARD
BEGIN:DAYLIGHT
TZOFFSETFROM:-0500
TZOFFSETTO:-0400
TZNAME:EDT
DTSTART:20270314T070000
END:DAYLIGHT
BEGIN:STANDARD
TZOFFSETFROM:-0400
TZOFFSETTO:-0500
TZNAME:EST
DTSTART:20271107T060000
END:STANDARD
END:VTIMEZONE
BEGIN:VEVENT
DTSTART;TZID=America/New_York:20260517T173000
DTEND;TZID=America/New_York:20260517T200000
DTSTAMP:20260421T043422
CREATED:20260311T192325Z
LAST-MODIFIED:20260311T192326Z
UID:10000810-1779039000-1779048000@www.pointharbor.com
SUMMARY:Student Bowling
DESCRIPTION:Student Bowling Night\nStudents in 7th–12th grade are invited to join us for a fun night of bowling\, food\, and hanging out with friends! \nOn Sunday\, May 17 from 5:30–8:00 PM\, we’ll gather for two hours of bowling and plenty of great food. The $30 cost includes bowling\, shoe rental\, unlimited pizza\, chicken tenders\, fries\, drinks\, and a $10 game card for the arcade. \nStudents should be dropped off at Lucky Strike at 5:30pm and picked up at 8:00pm. Please note that transportation will not be provided\, so families will need to arrange their own drop-off and pick-up. \nRegistration is required\, so be sure to sign up now! It’s going to be a great night of fun and connection—we hope your student will join us! \n			\n			\n				\n				\n				\n				\n				\n				\n				\n				\n				\n				📅 Date: May 17\, 5:30pm-8:00pm💲 Cost: $30 🎯 Who: All students in 7th–12th grade📍 Where: Lucky Strike\, Chesapeake \n			\n				REGISTER
URL:https://www.pointharbor.com/event/student-bowling/
LOCATION:Lucky Strike\, Chesapeake\, VA\, 23321\, United States
CATEGORIES:Students
ATTACH;FMTTYPE=image/jpeg:https://www.pointharbor.com/wp-content/uploads/2026/03/student-bowling-web.jpg
END:VEVENT
END:VCALENDAR