BEGIN:VCALENDAR
VERSION:2.0
PRODID:-//Point Harbor Church - ECPv6.15.20//NONSGML v1.0//EN
CALSCALE:GREGORIAN
METHOD:PUBLISH
X-WR-CALNAME:Point Harbor Church
X-ORIGINAL-URL:https://www.pointharbor.com
X-WR-CALDESC:Events for Point Harbor Church
REFRESH-INTERVAL;VALUE=DURATION:PT1H
X-Robots-Tag:noindex
X-PUBLISHED-TTL:PT1H
BEGIN:VTIMEZONE
TZID:America/New_York
BEGIN:DAYLIGHT
TZOFFSETFROM:-0500
TZOFFSETTO:-0400
TZNAME:EDT
DTSTART:20240310T070000
END:DAYLIGHT
BEGIN:STANDARD
TZOFFSETFROM:-0400
TZOFFSETTO:-0500
TZNAME:EST
DTSTART:20241103T060000
END:STANDARD
BEGIN:DAYLIGHT
TZOFFSETFROM:-0500
TZOFFSETTO:-0400
TZNAME:EDT
DTSTART:20250309T070000
END:DAYLIGHT
BEGIN:STANDARD
TZOFFSETFROM:-0400
TZOFFSETTO:-0500
TZNAME:EST
DTSTART:20251102T060000
END:STANDARD
BEGIN:DAYLIGHT
TZOFFSETFROM:-0500
TZOFFSETTO:-0400
TZNAME:EDT
DTSTART:20260308T070000
END:DAYLIGHT
BEGIN:STANDARD
TZOFFSETFROM:-0400
TZOFFSETTO:-0500
TZNAME:EST
DTSTART:20261101T060000
END:STANDARD
END:VTIMEZONE
BEGIN:VEVENT
DTSTART;TZID=America/New_York:20251115T090000
DTEND;TZID=America/New_York:20251115T170000
DTSTAMP:20260422T072604
CREATED:20251020T175636Z
LAST-MODIFIED:20251020T175637Z
UID:10000682-1763197200-1763226000@www.pointharbor.com
SUMMARY:Apple Picking
DESCRIPTION:Apple Picking at Carter Mountain\nJoin NextGen for a fall adventure! We’re heading to Carter Mountain for a day of apple picking\, good food\, and great company. This event is for 18–30 year old singles. \n🚌 Transportation: We have only 15 seats available on the shuttle\, so reserve your spot early! If shuttle spots fill up\, you’re still welcome to come—but you’ll need to arrange your own ride to Charlottesville. \n💵 Cost: Everyone will purchase their own apple-picking bag at the door and should bring money for lunch. \nCome enjoy a crisp fall day with friends—space is limited\, so don’t wait to sign up! \n			\n			\n				\n				\n				\n				\n				\n				\n				\n				\n				\n				📅 Dates: November 15 at 9:00am🎯 Who: 18-30 year old singles📍 Where: Carter Mountain\, Charlottesville\, VA \n			\n				REGISTER
URL:https://www.pointharbor.com/event/apple-picking/
LOCATION:Carter Mountain\, Charlottesville\, VA\, United States
CATEGORIES:NextGen
ATTACH;FMTTYPE=image/jpeg:https://www.pointharbor.com/wp-content/uploads/2025/10/apple-picking-web.jpg
END:VEVENT
END:VCALENDAR